BEGIN:VCALENDAR
VERSION:2.0
PRODID:-//Highfield Residents Association - ECPv5.10.0//NONSGML v1.0//EN
CALSCALE:GREGORIAN
METHOD:PUBLISH
X-WR-CALNAME:Highfield Residents Association
X-ORIGINAL-URL:https://www.highfieldresidents.org.uk
X-WR-CALDESC:Events for Highfield Residents Association
BEGIN:VTIMEZONE
TZID:UTC
BEGIN:STANDARD
TZOFFSETFROM:+0000
TZOFFSETTO:+0000
TZNAME:UTC
DTSTART:20260101T000000
END:STANDARD
END:VTIMEZONE
BEGIN:VEVENT
DTSTART;TZID=UTC:20260310T190000
DTEND;TZID=UTC:20260310T210000
DTSTAMP:20260420T195101
CREATED:20251120T122409Z
LAST-MODIFIED:20251120T122409Z
UID:52377-1773169200-1773176400@www.highfieldresidents.org.uk
SUMMARY:7pm\, HRA Committee Meeting
DESCRIPTION:7pm\, Highfield Church Centre\, Highfield Lane
URL:https://www.highfieldresidents.org.uk/event/7pm-hra-committee-meeting-13/
END:VEVENT
END:VCALENDAR