BEGIN:VCALENDAR
VERSION:2.0
PRODID:-//Highfield Residents Association - ECPv5.10.0//NONSGML v1.0//EN
CALSCALE:GREGORIAN
METHOD:PUBLISH
X-WR-CALNAME:Highfield Residents Association
X-ORIGINAL-URL:https://www.highfieldresidents.org.uk
X-WR-CALDESC:Events for Highfield Residents Association
BEGIN:VTIMEZONE
TZID:UTC
BEGIN:STANDARD
TZOFFSETFROM:+0000
TZOFFSETTO:+0000
TZNAME:UTC
DTSTART:20250101T000000
END:STANDARD
END:VTIMEZONE
BEGIN:VEVENT
DTSTART;TZID=UTC:20250107T190000
DTEND;TZID=UTC:20250107T210000
DTSTAMP:20260421T152807
CREATED:20241126T152541Z
LAST-MODIFIED:20250105T200935Z
UID:48615-1736276400-1736283600@www.highfieldresidents.org.uk
SUMMARY:7pm\, HRA Committee Meeting
DESCRIPTION:7pm\, Tuesday 7 January 2025 at Highfield Church Centre – upstairs meeting room.
URL:https://www.highfieldresidents.org.uk/event/hra-committee-meeting-highfield-church-centre/
END:VEVENT
END:VCALENDAR