BEGIN:VCALENDAR
VERSION:2.0
PRODID:-//Highfield Residents Association - ECPv5.10.0//NONSGML v1.0//EN
CALSCALE:GREGORIAN
METHOD:PUBLISH
X-WR-CALNAME:Highfield Residents Association
X-ORIGINAL-URL:https://www.highfieldresidents.org.uk
X-WR-CALDESC:Events for Highfield Residents Association
BEGIN:VTIMEZONE
TZID:UTC
BEGIN:STANDARD
TZOFFSETFROM:+0000
TZOFFSETTO:+0000
TZNAME:UTC
DTSTART:20260101T000000
END:STANDARD
END:VTIMEZONE
BEGIN:VEVENT
DTSTART;TZID=UTC:20260401T000000
DTEND;TZID=UTC:20260401T233000
DTSTAMP:20260422T150256
CREATED:20260322T192904Z
LAST-MODIFIED:20260322T195618Z
UID:53954-1775001600-1775086200@www.highfieldresidents.org.uk
SUMMARY:HRA@50\, Members Only - Photo Competition 1 April to 30 June 2026
DESCRIPTION:Photo Competition just launched – 1 April to 30 June! \nThe Best Pictures Taken on Phones\n(in Highfield\, Portswood\, the Old Cemetery\, the Common) \nThe competition runs from 1 April to 30 June 2026. Full details on the HRA website:\nhttps://www.highfieldresidents.org.uk/hra50-the-best-pictures-taken-on-phones-competition/
URL:https://www.highfieldresidents.org.uk/event/hra50-members-only-photo-competition-1-april-to-30-june/
END:VEVENT
BEGIN:VEVENT
DTSTART;TZID=UTC:20260407T190000
DTEND;TZID=UTC:20260407T210000
DTSTAMP:20260422T150256
CREATED:20251120T122635Z
LAST-MODIFIED:20251120T122635Z
UID:52379-1775588400-1775595600@www.highfieldresidents.org.uk
SUMMARY:7pm\, HRA Committee Meeting
DESCRIPTION:7pm\, Highfield Church Centre\, Highfield Lane
URL:https://www.highfieldresidents.org.uk/event/7pm-hra-committee-meeting-14/
END:VEVENT
BEGIN:VEVENT
DTSTART;TZID=UTC:20260411T133000
DTEND;TZID=UTC:20260411T160000
DTSTAMP:20260422T150256
CREATED:20260302T205701Z
LAST-MODIFIED:20260322T200442Z
UID:53649-1775914200-1775923200@www.highfieldresidents.org.uk
SUMMARY:HRA@50 - April Event\, Member Only – Urban Sketchers Workshop\, all abilities: 1.30pm to 4pm\, October Books\, Portswood High Street
DESCRIPTION:  \n  \n  \n  \nUrban Sketching Workshop in Portswood – Saturday\, 11 April\, 1.30pm to 4pm at October Books\, Portswood High Street. This will be an afternoon Workshop for beginners to experienced. \n\n\n\n\n\n\n\n\n\n\n\n\n\n\n\n\n\n\n\n\n\n\n‘Urban Sketchers Southampton celebrates Southampton and nearby areas\, sketching on location the people\, places and buildings that make our city so interesting and distinctive. We encourage people to value our city and celebrate its unique maritime ‘cityscape’. We are on Facebook:https://www.facebook.com/groups/usk.southampton \nAffiliated with international Urban Sketchers’: https://urbansketchers.org/ \nMeet at October Books by 1:30pm\n1:30 to 2:00 Introduction to Urban Sketchers at October Books\n2:00 to 3:30  Sketching around Portswood High Street\n3:30 to 4:00 Back to October Books for the Wrap Up. \nAll levels of artistic ability are welcome. Materials will be provided or bring your own. \nWorkshop leaders: Si Newell\, an architect\, illustrator\, and co-founder of Urban Sketchers Southampton\, will lead the session. Cate Monroe\, an artist and urban sketcher\, will assist. \nEarly bird reservations to: HRA.HonSec@gmail.com  This is a free event with 15 places available.
URL:https://www.highfieldresidents.org.uk/event/hra50-april-event-urban-sketchers-workshop-all-abilities-1-30pm-to-4pm-october-books-portswood-high-street/
LOCATION:October Books\, Portswod High Street
END:VEVENT
END:VCALENDAR